BEGIN:VCALENDAR
VERSION:2.0
PRODID:-//Guy Klucevsek - ECPv5.10.0//NONSGML v1.0//EN
CALSCALE:GREGORIAN
METHOD:PUBLISH
X-WR-CALNAME:Guy Klucevsek
X-ORIGINAL-URL:https://guyklucevsek.com
X-WR-CALDESC:Events for Guy Klucevsek
BEGIN:VTIMEZONE
TZID:America/Halifax
BEGIN:DAYLIGHT
TZOFFSETFROM:-0400
TZOFFSETTO:-0300
TZNAME:ADT
DTSTART:20240310T060000
END:DAYLIGHT
BEGIN:STANDARD
TZOFFSETFROM:-0300
TZOFFSETTO:-0400
TZNAME:AST
DTSTART:20241103T050000
END:STANDARD
BEGIN:DAYLIGHT
TZOFFSETFROM:-0400
TZOFFSETTO:-0300
TZNAME:ADT
DTSTART:20250309T060000
END:DAYLIGHT
BEGIN:STANDARD
TZOFFSETFROM:-0300
TZOFFSETTO:-0400
TZNAME:AST
DTSTART:20251102T050000
END:STANDARD
BEGIN:DAYLIGHT
TZOFFSETFROM:-0400
TZOFFSETTO:-0300
TZNAME:ADT
DTSTART:20260308T060000
END:DAYLIGHT
BEGIN:STANDARD
TZOFFSETFROM:-0300
TZOFFSETTO:-0400
TZNAME:AST
DTSTART:20261101T050000
END:STANDARD
BEGIN:DAYLIGHT
TZOFFSETFROM:-0400
TZOFFSETTO:-0300
TZNAME:ADT
DTSTART:20270314T060000
END:DAYLIGHT
BEGIN:STANDARD
TZOFFSETFROM:-0300
TZOFFSETTO:-0400
TZNAME:AST
DTSTART:20271107T050000
END:STANDARD
END:VTIMEZONE
BEGIN:VEVENT
DTSTART;TZID=America/Halifax:20240528T080000
DTEND;TZID=America/Halifax:20270528T170000
DTSTAMP:20260423T021311
CREATED:20240528T154537Z
LAST-MODIFIED:20240528T155520Z
UID:592-1716883200-1811523600@guyklucevsek.com
SUMMARY:Vignettes:  Short Pieces for Accordion
DESCRIPTION:https://starkland.org/catalog/gkm110/ \nGuy  Klucevsek: Vignettes: Short Pieces for Accordion
URL:https://guyklucevsek.com/event/vignettes-short-pieces-for-accordion-2/
END:VEVENT
BEGIN:VEVENT
DTSTART;TZID=America/Halifax:20241106T200000
DTEND;TZID=America/Halifax:20241106T220000
DTSTAMP:20260423T021311
CREATED:20240928T213315Z
LAST-MODIFIED:20240928T214850Z
UID:602-1730923200-1730930400@guyklucevsek.com
SUMMARY:Guy Klucevsek and Volker Goetze:  Little Big Top
DESCRIPTION:NOV. 6\, 2024\, 8PM:  Roulette\, 509 Atlantic Ave.\, Brooklyn (corner of Third Ave)\, NY\n  \nIn 2022\, trumpeter Volker Goetze commissioned fellow Staten Island musician\, composer/accordionst Guy Klucevsek\, to compose and arrange music to accompany the visit of Little Amal Walks to Snug Harbor Cultural Center\, Staten Island. They formed an ad hoc quartet with Jeff Hudgins and Doug Wieselman for the event. A year later\, Goetz raised additional funds for Klucevsek to create more material and the quartet reunited for a concert performance at the Newhouse Center at Snug Harbor\, preceded by a week of recording at Casa Klucevsek. This is their first performance outside of Staten Island\, to coincide with the release of their debut recording\, “Little Big Top\,” on Motéma Music. Klucevsek’s eclectic\, wide-ranging music pays tribute to Nino Rota\, Rufus Reid\, Kurt Weill\, Ethiopian pop music\, carousel music\, the circus; genre music including the blues\, hymn\, waltz\, tango\, ballad and polka; and balkan folk music. He has performed at Roulette numerous times\, starting in the early 1980s.
URL:https://guyklucevsek.com/event/guy-klucevsek-and-volker-goetze-little-big-top/
LOCATION:Roulette\, 509 Atlantic Ave.\, Brooklyn\, United States
END:VEVENT
END:VCALENDAR