BEGIN:VCALENDAR
VERSION:2.0
PRODID:-//Guy Klucevsek - ECPv5.10.0//NONSGML v1.0//EN
CALSCALE:GREGORIAN
METHOD:PUBLISH
X-WR-CALNAME:Guy Klucevsek
X-ORIGINAL-URL:https://guyklucevsek.com
X-WR-CALDESC:Events for Guy Klucevsek
BEGIN:VTIMEZONE
TZID:UTC
BEGIN:STANDARD
TZOFFSETFROM:+0000
TZOFFSETTO:+0000
TZNAME:UTC
DTSTART:20200101T000000
END:STANDARD
END:VTIMEZONE
BEGIN:VEVENT
DTSTART;VALUE=DATE:20200328
DTEND;VALUE=DATE:20200329
DTSTAMP:20260422T202955
CREATED:20200823T180955Z
LAST-MODIFIED:20200823T181023Z
UID:43-1585353600-1585439999@guyklucevsek.com
SUMMARY:March 28\, 2020
DESCRIPTION:Joan Grauman’s review of Vignettes:  Short Pieces for Accordion on www.accordions.com
URL:https://guyklucevsek.com/event/march-28-2020/
END:VEVENT
END:VCALENDAR