BEGIN:VCALENDAR
VERSION:2.0
PRODID:-//Guy Klucevsek - ECPv5.10.0//NONSGML v1.0//EN
CALSCALE:GREGORIAN
METHOD:PUBLISH
X-WR-CALNAME:Guy Klucevsek
X-ORIGINAL-URL:https://guyklucevsek.com
X-WR-CALDESC:Events for Guy Klucevsek
BEGIN:VTIMEZONE
TZID:America/Halifax
BEGIN:DAYLIGHT
TZOFFSETFROM:-0400
TZOFFSETTO:-0300
TZNAME:ADT
DTSTART:20210314T060000
END:DAYLIGHT
BEGIN:STANDARD
TZOFFSETFROM:-0300
TZOFFSETTO:-0400
TZNAME:AST
DTSTART:20211107T050000
END:STANDARD
END:VTIMEZONE
BEGIN:VEVENT
DTSTART;VALUE=DATE:20210307
DTEND;VALUE=DATE:20210308
DTSTAMP:20260419T133802
CREATED:20210307T181715Z
LAST-MODIFIED:20210307T182217Z
UID:428-1615075200-1615161599@guyklucevsek.com
SUMMARY:"My Choice" compilation on Winter & Winter
DESCRIPTION:European release of “My Choice” is now available in in all formats\, directly from Winter & Winter\, or through any sound media outlet.  This is a compilation of tracks from my Winter & Winter recordings\, which I selected and sequenced\, featuring Alan Bern on accordion and piano\, Phillip Johnston on saxophone\, and myself on accordion.
URL:https://guyklucevsek.com/event/my-choice-compilation-on-winter-winter/
END:VEVENT
END:VCALENDAR