BEGIN:VCALENDAR
VERSION:2.0
PRODID:-//Guy Klucevsek - ECPv5.10.0//NONSGML v1.0//EN
CALSCALE:GREGORIAN
METHOD:PUBLISH
X-WR-CALNAME:Guy Klucevsek
X-ORIGINAL-URL:https://guyklucevsek.com
X-WR-CALDESC:Events for Guy Klucevsek
BEGIN:VTIMEZONE
TZID:America/Halifax
BEGIN:DAYLIGHT
TZOFFSETFROM:-0400
TZOFFSETTO:-0300
TZNAME:ADT
DTSTART:20200308T060000
END:DAYLIGHT
BEGIN:STANDARD
TZOFFSETFROM:-0300
TZOFFSETTO:-0400
TZNAME:AST
DTSTART:20201101T050000
END:STANDARD
BEGIN:DAYLIGHT
TZOFFSETFROM:-0400
TZOFFSETTO:-0300
TZNAME:ADT
DTSTART:20210314T060000
END:DAYLIGHT
BEGIN:STANDARD
TZOFFSETFROM:-0300
TZOFFSETTO:-0400
TZNAME:AST
DTSTART:20211107T050000
END:STANDARD
BEGIN:DAYLIGHT
TZOFFSETFROM:-0400
TZOFFSETTO:-0300
TZNAME:ADT
DTSTART:20220313T060000
END:DAYLIGHT
BEGIN:STANDARD
TZOFFSETFROM:-0300
TZOFFSETTO:-0400
TZNAME:AST
DTSTART:20221106T050000
END:STANDARD
END:VTIMEZONE
BEGIN:VEVENT
DTSTART;VALUE=DATE:20200917
DTEND;VALUE=DATE:20220918
DTSTAMP:20260423T051926
CREATED:20200917T200955Z
LAST-MODIFIED:20200924T181849Z
UID:413-1600300800-1663459199@guyklucevsek.com
SUMMARY:Interview on Do the M@th
DESCRIPTION:An in-depth and lengthy interview by Anthony Creamer III. \nhttps://ethaniverson.com/interview-with-guy-klucevsek/
URL:https://guyklucevsek.com/event/interview-on-do-the-mth/
END:VEVENT
END:VCALENDAR